BEGIN:VCALENDAR
VERSION:2.0
PRODID:-//Shoko Numao official website - ECPv6.15.17.1//NONSGML v1.0//EN
CALSCALE:GREGORIAN
METHOD:PUBLISH
X-ORIGINAL-URL:https://shoko-numao.com
X-WR-CALDESC:Shoko Numao official website のイベント
REFRESH-INTERVAL;VALUE=DURATION:PT1H
X-Robots-Tag:noindex
X-PUBLISHED-TTL:PT1H
BEGIN:VTIMEZONE
TZID:Asia/Tokyo
BEGIN:STANDARD
TZOFFSETFROM:+0900
TZOFFSETTO:+0900
TZNAME:JST
DTSTART:20250101T000000
END:STANDARD
END:VTIMEZONE
BEGIN:VEVENT
DTSTART;TZID=Asia/Tokyo:20260501T200000
DTEND;TZID=Asia/Tokyo:20260501T200000
DTSTAMP:20260424T194455
CREATED:20260419T034127Z
LAST-MODIFIED:20260419T034446Z
UID:5038-1777665600-1777665600@shoko-numao.com
SUMMARY:阿部真武、沼尾翔子、宮坂遼太郎 (Tokyo)
DESCRIPTION:阿部真武 Masatake Abe – bass \n沼尾翔子 Shoko Numao – vocal \n宮坂遼太郎 Ryotaro Miyasaka – percussion \n  \n  \n開場19:30 / 開演 20:00\n予約¥3000/当日¥3500 (ともに1ドリンク\, スナック込)\n◇ご予約・お問い合わせ：http://shicho.org/2026/05/1_260501/ \n  \nopen 19.30 /start 20:00\nCharge: adv ¥3000/door ¥3500 (a drink and snack included)\n◇Reservation/Info: http://shicho.org/2026/05/1_260501/
URL:https://shoko-numao.com/schedule/%e9%98%bf%e9%83%a8%e7%9c%9f%e6%ad%a6%e3%80%81%e6%b2%bc%e5%b0%be%e7%bf%94%e5%ad%90%e3%80%81%e5%ae%ae%e5%9d%82%e9%81%bc%e5%a4%aa%e9%83%8e-tokyo/
LOCATION:神保町試聴室 (Shicho-shitsu\, Jimbo-cho)\, 東京都千代田区西神田3-8-5　ビル西神田1階\, 〒101-0065
ATTACH;FMTTYPE=image/jpeg:https://shoko-numao.com/wp-content/uploads/2026/04/IMG_7118-e1776570082508.jpg
END:VEVENT
BEGIN:VEVENT
DTSTART;TZID=Asia/Tokyo:20260503T150000
DTEND;TZID=Asia/Tokyo:20260503T150000
DTSTAMP:20260424T194455
CREATED:20260414T150239Z
LAST-MODIFIED:20260414T150425Z
UID:5032-1777820400-1777820400@shoko-numao.com
SUMMARY:かみむら泰一 New Project 歌うオーネット (Tokyo)
DESCRIPTION:かみむら泰一 sax \n沼尾翔子 vocal \n古和靖章 guitar \n座小田諒一 bass \n白石美徳 drums \n  \n開場14:15 / 開演 15:00\n予約¥3000/当日¥3500\n会場：荻窪 velvet sun\n◇ご予約・お問い合わせ：https://velvet-sun.stores.jp/items/69b01ef52351e44fc6447b82 \n \nTime: open 14.15/start 15.00\nCharge: adv ¥3000/door ¥3500\nVenue: velvet sun\, Ogikubo\n◇Reservation/Info: https://velvet-sun.stores.jp/items/69b01ef52351e44fc6447b82 \n\n　昨年秋くらいから、かみむら泰一さんのクローズドなセッションに時々参加させていただいてきました。オーネット・コールマンはずっと気になっていて、ずっと歌いたいと思っていましたが、どうアプローチしたら良いのかわからず、少々怖さも感じてずっと遠巻きにみているばかりでした。セッションに参加するようになり、話を聴いたり、実際に歌う中で、わからないなりにも色々やってみるとめちゃめちゃ面白い瞬間があったり、そして何よりオーネットのメロディを歌うのが最高に心地よいので、恐怖も消え、かみむらさんの広い心とユーモアにも支えられ、「沼尾さんがが面白がっているなら良いね」とひそかに回を重ねてきました。いろんな、その時集まれたメンバーで演奏してみる中で、今回のこのメンバーならなにか面白くなりそうだとビビッと、開催に至りました。さて
URL:https://shoko-numao.com/schedule/260503_velvetsun/
LOCATION:velvetsun\, 東京都杉並区 荻窪3-47-21 サンライズ ビル1F
ATTACH;FMTTYPE=image/jpeg:https://shoko-numao.com/wp-content/uploads/2026/04/IMG_6913-e1776176627558.jpg
END:VEVENT
BEGIN:VEVENT
DTSTART;TZID=Asia/Tokyo:20260516T193000
DTEND;TZID=Asia/Tokyo:20260516T193000
DTSTAMP:20260424T194455
CREATED:20260419T124239Z
LAST-MODIFIED:20260419T124302Z
UID:5045-1778959800-1778959800@shoko-numao.com
SUMMARY:大藏雅彦、沼尾翔子 (Tokyo)
DESCRIPTION:DUO \n〈出演〉\nMasahiko Okura: 大蔵雅彦\nShoko Numao: 沼尾翔子 \n  \n〈時間/料金〉\n❑open19:00/start19:30\n❑¥2\,500\n❑Reservation/Info: https://www.otooto.jp/reservation
URL:https://shoko-numao.com/schedule/260516_otooto/
LOCATION:OTOOTO\, 東京都世田谷区北沢3-13-10
ATTACH;FMTTYPE=image/jpeg:https://shoko-numao.com/wp-content/uploads/2026/04/8D52F317-8EE8-41AF-8DDC-F5633149F0FD.jpg
END:VEVENT
BEGIN:VEVENT
DTSTART;TZID=Asia/Tokyo:20260517T190000
DTEND;TZID=Asia/Tokyo:20260517T190000
DTSTAMP:20260424T194455
CREATED:20260419T125045Z
LAST-MODIFIED:20260419T125213Z
UID:5050-1779044400-1779044400@shoko-numao.com
SUMMARY:The Common Table (Tokyo)
DESCRIPTION:中元徹（piano）沼尾翔子（vocal）甲斐正樹 （bass） 則武諒 （drums） \n杉本ゆみ （piano）Hanae Sakuyama (vocal) 橋本歩(cello) 井谷享志(percussion) \n  \n〈時間・料金〉\n◇ open 18.30/start 19.00\n◇ ¥3\,500\n◇ ご予約・お問い合わせ：https://um-musica.com/17767
URL:https://shoko-numao.com/schedule/260517_um/
LOCATION:um\, 東京都世田谷区等々力2丁目1-14 B1
ATTACH;FMTTYPE=image/png:https://shoko-numao.com/wp-content/uploads/2026/04/20260517_EventVisual-1-scaled-1-e1776603032374.png
END:VEVENT
BEGIN:VEVENT
DTSTART;TZID=Asia/Tokyo:20260523T180000
DTEND;TZID=Asia/Tokyo:20260523T180000
DTSTAMP:20260424T194455
CREATED:20260419T130002Z
LAST-MODIFIED:20260419T130118Z
UID:5055-1779559200-1779559200@shoko-numao.com
SUMMARY:CDリリース記念コンサート (Tokyo)
DESCRIPTION:沼尾翔子 Shoko Numao – vocal\, guitar \n  \n〈時間・料金〉 \n◇ open 17:30/start 18:00 \n◇ 前売 ¥2\,500 /当日 ¥3\,000 \n◇ 詳細・ご予約：https://www.elsewheremusic.net/shoko_numao_cd_release_tokyo_live.html\n \n  \n\nその空間、その瞬間に、声でかたちを描くようなアプローチで、音と言葉のあわいにあるなにかを見つめてきたヴォーカリスト／ソングライター、沼尾翔子。 \nアイルランドの大学でジャズを主に、ヴォーカルや作曲を学び、2021年の帰国後はソロ活動のほか、遠藤ふみ、阿部真武、白石美徳とのカルテットUquwaをはじめ、さまざまなコラボレーションを重ねてきました。 \n2025年11月に米国のレーベルelsewhere musicより発表されたソロアルバム『The Siwning Sails ― 青い帆』が国内盤としてリリースされる節目に、この録音とおなじ、歌とギターだけのコンサートをおこないます。 \n会場となる早稲田奉仕園スコットホールは、築105年を迎える赤レンガ造りの建築です。 \n楽曲のひとつひとつから、声をたよりに紡がれた糸で織られる音のタペストリーが、歴史を湛えた空間にとけこんでいく、特別な時間をお届けします。
URL:https://shoko-numao.com/schedule/260523_scothall/
LOCATION:​早稲田奉仕園 スコットホール\, 東京都新宿区西早稲田2-3-1\, 169-8616\, Japan
ATTACH;FMTTYPE=image/jpeg:https://shoko-numao.com/wp-content/uploads/2026/04/IMG_6829-scaled-e1776603560245.jpg
END:VEVENT
BEGIN:VEVENT
DTSTART;TZID=Asia/Tokyo:20260527T200000
DTEND;TZID=Asia/Tokyo:20260527T200000
DTSTAMP:20260424T194455
CREATED:20260419T130714Z
LAST-MODIFIED:20260419T130809Z
UID:5061-1779912000-1779912000@shoko-numao.com
SUMMARY:Markus Artved、hamachi、沼尾翔子 (Tokyo)
DESCRIPTION:〈出演〉 \nMarkus Artved \nhamachi \n沼尾翔子 Shoko Numao \n  \n〈時間・料金〉\n◇ open 19.30/start 20.00\n◇ 投げ銭 tipping\n(別途チャージ500円+ドリンクオーダー / charge ¥500 + drink order required) \n◇予約方法\n・予約受付メールアドレス:barisshee@keh.biglobe.ne.jp\nタイトルを「5/27予約」とし、\n上記アドレスに氏名(フルネーム)と人数(最大2名)と電話番号をお知らせください。整理番号を返信いたします。\n予約は5月26日24時で締め切ります。 \n◇詳細：http://www.bloc.jp/barisshee/
URL:https://shoko-numao.com/schedule/260527_barisshee/
LOCATION:Bar Isshee\, 千駄木センチュリー21　地下1階
END:VEVENT
BEGIN:VEVENT
DTSTART;TZID=Asia/Tokyo:20260531T193000
DTEND;TZID=Asia/Tokyo:20260531T193000
DTSTAMP:20260424T194455
CREATED:20260419T131635Z
LAST-MODIFIED:20260420T163339Z
UID:5066-1780255800-1780255800@shoko-numao.com
SUMMARY:謝明諺、沼尾翔子 (Tokyo)
DESCRIPTION:謝明諺 Minyen Hsieh – saxophone \n沼尾翔子 Shoko Numao – vocal \n  \n〈時間・料金〉 \n◇ open 19:00/start 19:30 \n◇ 予約 ¥3\,000 /当日¥3\,500 (+ drink order) \n◇ ご予約・お問い合わせ： \nsakaiki@modalbeats.com \n09010343487
URL:https://shoko-numao.com/schedule/%e8%ac%9d%e6%98%8e%e8%ab%ba%e3%80%81%e6%b2%bc%e5%b0%be%e7%bf%94%e5%ad%90-tokyo/
LOCATION:月花舎\, 東京都千代田区神田神保町３丁目５ ニュー徳栄ビル １階
ATTACH;FMTTYPE=image/jpeg:https://shoko-numao.com/wp-content/uploads/2026/04/f260531_web2-scaled-e1776702814199.jpg
END:VEVENT
END:VCALENDAR