BEGIN:VCALENDAR
VERSION:2.0
PRODID:-//Shoko Numao official website - ECPv6.15.17.1//NONSGML v1.0//EN
CALSCALE:GREGORIAN
METHOD:PUBLISH
X-WR-CALNAME:Shoko Numao official website
X-ORIGINAL-URL:https://shoko-numao.com
X-WR-CALDESC:Shoko Numao official website のイベント
REFRESH-INTERVAL;VALUE=DURATION:PT1H
X-Robots-Tag:noindex
X-PUBLISHED-TTL:PT1H
BEGIN:VTIMEZONE
TZID:Asia/Tokyo
BEGIN:STANDARD
TZOFFSETFROM:+0900
TZOFFSETTO:+0900
TZNAME:JST
DTSTART:20250101T000000
END:STANDARD
END:VTIMEZONE
BEGIN:VEVENT
DTSTART;TZID=Asia/Tokyo:20260302T200000
DTEND;TZID=Asia/Tokyo:20260302T200000
DTSTAMP:20260424T181007
CREATED:20260201T033942Z
LAST-MODIFIED:20260204T034047Z
UID:4868-1772481600-1772481600@shoko-numao.com
SUMMARY:沼尾翔子、山内弘太、ハラナツコ〈沼碁〉(Tokyo)
DESCRIPTION:沼尾翔子 Shoko Numao – vocal \n山内弘太 Kota Yamauchi – guitar \nハラナツコ Natsuko Hara – saxophone \n  \n開場19:30 / 開演 20:00\n予約¥3000/当日¥3500 (ともに１ドリンク・スナック込み）\n会場：神保町試聴室\n◇ご予約・お問い合わせ： \nhttp://shicho.org/2026/03/1_260302/ \nTime: open 19.30/start 20.00\nCharge: adv ¥3000/door ¥3500 (1drink and snack included)\nVenue: Shicho-shitsu\, Jimbo-cho\n◇Reservation/Info:  \nhttp://shicho.org/2026/03/1_260302/ \n\n「碁」のお二人とご一緒させていただきます。年末にも阿部さん藤巻さんの入った5人でご一緒させていただきましたが、今回は3人で。山内弘太さんはここ1年半ほど、数ヶ月おきに共演を続けさせていただいていますが、音がまずかっこいいのと、音の捉え方、見え方がきっと私と全然違いそうで、知らない広がり方、予想していなかったサウンドになったり毎回面白いです。音のこと、曲を作ることの視野が広がります、広げます。ハラナツコさんはチンドン屋というまた全然知らないシーンでも活動されている方。碁での演奏いつも本当に素晴らしいのですが、年末に初めて一緒に音を出させていただき、面白い瞬間色々あったのでまた共演できるの楽しみです。
URL:https://shoko-numao.com/schedule/260302-shichoshitsu/
LOCATION:神保町試聴室 (Shicho-shitsu\, Jimbo-cho)\, 東京都千代田区西神田3-8-5　ビル西神田1階\, 〒101-0065
ATTACH;FMTTYPE=image/jpeg:https://shoko-numao.com/wp-content/uploads/2026/02/f260302_3-scaled-e1770176443408.jpg
END:VEVENT
BEGIN:VEVENT
DTSTART;TZID=Asia/Tokyo:20260314T190000
DTEND;TZID=Asia/Tokyo:20260314T190000
DTSTAMP:20260424T181007
CREATED:20260223T012202Z
LAST-MODIFIED:20260223T012312Z
UID:4912-1773514800-1773514800@shoko-numao.com
SUMMARY:charu presents しましまショウル (Tokyo)
DESCRIPTION:西嶋徹 (bass) \n田嶋真佐雄(bass) \n沼尾翔子(vo) \ncharu (contemporary tap dance) \n  \nopen 18:30 / start 19:00\n予約¥3500/当日¥4000\n会場：西荻窪　ボイラー室\n◇ご予約・お問い合わせ \nTime: open 18:30 / start 19:00\nCharge: adv ¥3500/door ¥4000\nVenue: Boiler room\, Nishi-Ogikubo\, Tokyo\n◇Reservation/Info
URL:https://shoko-numao.com/schedule/260314_boilershitsu/
LOCATION:ボイラー室\, 東京都杉並区西荻北2-2-14 B1\, Japan
ATTACH;FMTTYPE=image/png:https://shoko-numao.com/wp-content/uploads/2026/02/f7e3da72b1b07948db6642b84fe438bc.png
END:VEVENT
BEGIN:VEVENT
DTSTART;TZID=Asia/Tokyo:20260320T140000
DTEND;TZID=Asia/Tokyo:20260320T140000
DTSTAMP:20260424T181007
CREATED:20260223T013237Z
LAST-MODIFIED:20260223T013442Z
UID:4919-1774015200-1774015200@shoko-numao.com
SUMMARY:HYPER GAL / Uquwa (Tokyo)
DESCRIPTION:HYPER GAL  \n石田小榛 Koharu Ishida vocal \n角矢胡桃 Kurumi Kadoya drums \nUquwa  \n沼尾翔子 Shoko Numao vocal \n遠藤ふみ Fumi Endo piano \n阿部真武 Masatake Abe bass \n白石美徳 Yoshinori Shiraishi drums \n  \n開場13:30 / 開演 14:00\n予約¥3000/当日¥3500\n会場：七針（八丁堀・茅場町）\n◇ご予約・お問い合わせ \nTime: open 13.30/start 14.00\nCharge: adv ¥3000/door ¥3500\nVenue: Nanahari\, Tokyo\n◇Reservation/Info
URL:https://shoko-numao.com/schedule/260314_nanahari/
LOCATION:七針\, 東京都中央区新川2-7-1 オリエンタルビル 地下1階
ATTACH;FMTTYPE=image/jpeg:https://shoko-numao.com/wp-content/uploads/2026/02/IMG_6780.jpg
END:VEVENT
BEGIN:VEVENT
DTSTART;TZID=Asia/Tokyo:20260329T140000
DTEND;TZID=Asia/Tokyo:20260329T180000
DTSTAMP:20260424T181007
CREATED:20260307T042016Z
LAST-MODIFIED:20260322T150642Z
UID:4925-1774792800-1774807200@shoko-numao.com
SUMMARY:北埼玉 NAADAM — 北本モンゴルフェス — (Saitama)
DESCRIPTION:3/29 Sun. \n14:00- 落合康介ソロ（コントラバス\,馬頭琴）\n14:30- 沼尾翔子ソロ（vo\,gt）\n15:00- 直川礼緒ソロ（口琴）\n15:30- フルハシユミコ（vo\,馬頭琴/w竹内武さん）\n16:00- 吉野弘志ソロ（コントラバス） \n16:30-17:30 中庭スペシャルライブ \n  \nお気持ち投げ入れ制（夜の部は入場料 ¥1\,000） \nTipping (¥1\,000 for the evening show from 4.30 pm)
URL:https://shoko-numao.com/schedule/260329_nakaniwa/
LOCATION:中庭\, 北本市栄7北本団地1-26-102\, Japan
ATTACH;FMTTYPE=image/jpeg:https://shoko-numao.com/wp-content/uploads/2026/03/att.YOm04dCmaqBc9pEuooSLwVGIbUR9SLNf4di2YgZDIyU-e1774191998974.jpg
END:VEVENT
BEGIN:VEVENT
DTSTART;TZID=Asia/Tokyo:20260330T200000
DTEND;TZID=Asia/Tokyo:20260330T200000
DTSTAMP:20260424T181007
CREATED:20260307T042633Z
LAST-MODIFIED:20260307T042732Z
UID:4929-1774900800-1774900800@shoko-numao.com
SUMMARY:櫻澤シーナ有紀子 、Sean Colum 、遠藤ふみ 、堀京太郎 、沼尾翔子 (Tokyo)
DESCRIPTION:櫻澤シーナ有紀子 (コントラバス) \nSean Colum (ギター) \n遠藤ふみ (ピアノ) \n堀京太郎 (トランペット) \n沼尾翔子 (ヴォイス) \n  \n開場19:30 / 開演 20:00\n予約¥2500 (要予約)\n会場：Ftarri\n◇ご予約・お問い合わせ：info@ftarri.com (氏名、人数、電話番号をお知らせください) \n \nTime: open 19.30/start 20.00\nFee: ¥2500 (reservation required)\nVenue: Ftarri\n◇Reservation/Info:  info@ftarri.com (Please write your name\, the number of people\, and your telephone number)
URL:https://shoko-numao.com/schedule/260330_ftarri/
LOCATION:ftarri\, 東京都文京区本郷1-4-11 岡野ビル地下一階
END:VEVENT
END:VCALENDAR